BEGIN:VCALENDAR
VERSION:2.0
PRODID:-//socialdancer.org//Dances//EN
CALSCALE:GREGORIAN
METHOD:PUBLISH
X-WR-TIMEZONE:Europe/Stockholm
BEGIN:VEVENT
SUMMARY:Burlesque Göteborg Burlesque Inspiration
DTSTART:20260508T160000Z
DTEND:20260508T173000Z
DTSTAMP:20260420T043048Z
UID:https://socialdancer.org/sv/event/2520/
CATEGORIES:
DESCRIPTION:Burlesque Inspiration \n https://www.facebook.com/events/96029
 0239897603/
URL:https://socialdancer.org/sv/event/2520/
END:VEVENT
END:VCALENDAR
