BEGIN:VCALENDAR
VERSION:2.0
PRODID:-//socialdancer.org//Dances//EN
CALSCALE:GREGORIAN
METHOD:PUBLISH
X-WR-TIMEZONE:Europe/Stockholm
BEGIN:VEVENT
SUMMARY:Bugg/Fox Örebro BLENDER I BRUNNSPARKEN - EXTRAINSATT DANS PÅ VÄ
 G TILL ÖLAND!
DTSTART:20250627T170000Z
DTEND:20250627T210000Z
DTSTAMP:20260419T210028Z
UID:https://socialdancer.org/en/event/992/
CATEGORIES:
DESCRIPTION:BLENDER I BRUNNSPARKEN - EXTRAINSATT DANS PÅ VÄG TILL ÖLAND
 ! \n https://www.facebook.com/events/1232804978495106/
URL:https://socialdancer.org/en/event/992/
END:VEVENT
END:VCALENDAR
