BEGIN:VCALENDAR
VERSION:2.0
PRODID:-//socialdancer.org//Dances//EN
CALSCALE:GREGORIAN
METHOD:PUBLISH
X-WR-TIMEZONE:Europe/Stockholm
BEGIN:VEVENT
SUMMARY:Bugg/Fox Alingsås Söndagsdans till Date
DTSTART:20250615T150000Z
DTEND:20250615T190000Z
DTSTAMP:20260419T145949Z
UID:https://socialdancer.org/en/event/985/
CATEGORIES:
DESCRIPTION:Söndagsdans till Date \n https://www.facebook.com/events/1336
 333044231897/
URL:https://socialdancer.org/en/event/985/
END:VEVENT
END:VCALENDAR
