BEGIN:VCALENDAR
VERSION:2.0
PRODID:-//socialdancer.org//Dances//EN
CALSCALE:GREGORIAN
METHOD:PUBLISH
X-WR-TIMEZONE:Europe/Stockholm
BEGIN:VEVENT
SUMMARY:Bugg/Fox Göteborg Casanovas
DTSTART:20250626T170000Z
DTEND:20250626T210000Z
DTSTAMP:20260420T114933Z
UID:https://socialdancer.org/en/event/970/
CATEGORIES:
DESCRIPTION:Casanovas på Liseberg \n https://www.facebook.com/events/1708
 434883088098/
URL:https://socialdancer.org/en/event/970/
END:VEVENT
END:VCALENDAR
