BEGIN:VCALENDAR
VERSION:2.0
PRODID:-//socialdancer.org//Dances//EN
CALSCALE:GREGORIAN
METHOD:PUBLISH
X-WR-TIMEZONE:Europe/Stockholm
BEGIN:VEVENT
SUMMARY:Bugg/Fox Alingsås Fridanskväll
DTSTART:20250402T163000Z
DTEND:20250402T193000Z
DTSTAMP:20260421T131926Z
UID:https://socialdancer.org/en/event/950/
CATEGORIES:
DESCRIPTION:Unsafe: Risk score 95 too high \n https://alingsasdansklubb.se
 /
URL:https://socialdancer.org/en/event/950/
END:VEVENT
END:VCALENDAR
