BEGIN:VCALENDAR
VERSION:2.0
PRODID:-//socialdancer.org//Dances//EN
CALSCALE:GREGORIAN
METHOD:PUBLISH
X-WR-TIMEZONE:Europe/Stockholm
BEGIN:VEVENT
SUMMARY:West Coast Swing Herrljunga WCS Nybörjarhelg
DTSTART:20250405T080000Z
DTEND:20250406T130000Z
DTSTAMP:20260421T115417Z
UID:https://socialdancer.org/en/event/897/
CATEGORIES:
DESCRIPTION:WCS Nybörjarhelg \n https://www.facebook.com/events/166384296
 1192954/
URL:https://socialdancer.org/en/event/897/
END:VEVENT
END:VCALENDAR
