BEGIN:VCALENDAR
VERSION:2.0
PRODID:-//socialdancer.org//Dances//EN
CALSCALE:GREGORIAN
METHOD:PUBLISH
X-WR-TIMEZONE:Europe/Stockholm
BEGIN:VEVENT
SUMMARY:Fox Borlänge FoxFrossan® 2025
DTSTART:20250611T080000Z
DTEND:20250614T120000Z
DTSTAMP:20260420T103212Z
UID:https://socialdancer.org/en/event/875/
CATEGORIES:
DESCRIPTION:Foxfrossan \n https://foxfrossan.se/\nFoxFrossan® 2025 \n htt
 ps://www.facebook.com/events/1300805327954464/
URL:https://socialdancer.org/en/event/875/
END:VEVENT
END:VCALENDAR
