BEGIN:VCALENDAR
VERSION:2.0
PRODID:-//socialdancer.org//Dances//EN
CALSCALE:GREGORIAN
METHOD:PUBLISH
X-WR-TIMEZONE:Europe/Stockholm
BEGIN:VEVENT
SUMMARY:Fox Vara Fox på Varaslätten
DTSTART:20241116T090000Z
DTEND:20241116T150000Z
DTSTAMP:20260421T115702Z
UID:https://socialdancer.org/en/event/825/
CATEGORIES:
DESCRIPTION:Fox på Varaslätten \n https://www.facebook.com/events/146098
 3851266078/
URL:https://socialdancer.org/en/event/825/
END:VEVENT
END:VCALENDAR
