BEGIN:VCALENDAR
VERSION:2.0
PRODID:-//socialdancer.org//Dances//EN
CALSCALE:GREGORIAN
METHOD:PUBLISH
X-WR-TIMEZONE:Europe/Stockholm
BEGIN:VEVENT
SUMMARY:Bugg/Fox Kungälv PH:s - Kvarnkullen - Kungälv
DTSTART:20240920T180000Z
DTEND:20240920T220000Z
DTSTAMP:20260420T042733Z
UID:https://socialdancer.org/en/event/803/
CATEGORIES:
DESCRIPTION:PH:s - Kvarnkullen - Kungälv \n https://www.facebook.com/even
 ts/1081766960139462/
URL:https://socialdancer.org/en/event/803/
END:VEVENT
END:VCALENDAR
