BEGIN:VCALENDAR
VERSION:2.0
PRODID:-//socialdancer.org//Dances//EN
CALSCALE:GREGORIAN
METHOD:PUBLISH
X-WR-TIMEZONE:Europe/Stockholm
BEGIN:VEVENT
SUMMARY:Bugg/Fox Kungsbacka 30-årsfest tsm med er och dans till Jannez
DTSTART:20230415T140000Z
DTEND:20230415T220000Z
DTSTAMP:20260421T102021Z
UID:https://socialdancer.org/en/event/79/
CATEGORIES:
DESCRIPTION:https://omaps.app/84kLORlZeA/Tostaredsvägen\n57.43947\, 12.18
 895\n30-årsfest tsm med er och dans till Jannez \n https://www.facebook.c
 om/events/5061061440662292
URL:https://socialdancer.org/en/event/79/
END:VEVENT
END:VCALENDAR
