BEGIN:VCALENDAR
VERSION:2.0
PRODID:-//socialdancer.org//Dances//EN
CALSCALE:GREGORIAN
METHOD:PUBLISH
X-WR-TIMEZONE:Europe/Stockholm
BEGIN:VEVENT
SUMMARY:Fox Trollhättan Dance of Dreams grundkurs Modern Fox 2024-11-23
DTSTART:20241123T090000Z
DTEND:20241123T150000Z
DTSTAMP:20260419T192124Z
UID:https://socialdancer.org/en/event/778/
CATEGORIES:
DESCRIPTION:Dance of Dreams grundkurs Modern Fox 2024-11-23 \n https://www
 .facebook.com/events/2294762200876681/
URL:https://socialdancer.org/en/event/778/
END:VEVENT
END:VCALENDAR
