BEGIN:VCALENDAR
VERSION:2.0
PRODID:-//socialdancer.org//Dances//EN
CALSCALE:GREGORIAN
METHOD:PUBLISH
X-WR-TIMEZONE:Europe/Stockholm
BEGIN:VEVENT
SUMMARY:Bugg/Fox Göteborg Logga in på Facebook
DTSTART:20230318T190000Z
DTEND:20230318T230000Z
DTSTAMP:20260421T113348Z
UID:https://socialdancer.org/en/event/77/
CATEGORIES:
DESCRIPTION:Logga in på Facebook \n https://www.facebook.com/events/48396
 6587143498
URL:https://socialdancer.org/en/event/77/
END:VEVENT
END:VCALENDAR
