BEGIN:VCALENDAR
VERSION:2.0
PRODID:-//socialdancer.org//Dances//EN
CALSCALE:GREGORIAN
METHOD:PUBLISH
X-WR-TIMEZONE:Europe/Stockholm
BEGIN:VEVENT
SUMMARY:Bugg/Fox Varberg MÅNDAGSDANS till Perikles i Varberg 16 september
  2024
DTSTART:20240916T170000Z
DTEND:20240916T210000Z
DTSTAMP:20260420T013703Z
UID:https://socialdancer.org/en/event/754/
CATEGORIES:
DESCRIPTION:MÅNDAGSDANS till Perikles i Varberg 16 september 2024 \n http
 s://www.facebook.com/events/2023132891416914/
URL:https://socialdancer.org/en/event/754/
END:VEVENT
END:VCALENDAR
