BEGIN:VCALENDAR
VERSION:2.0
PRODID:-//socialdancer.org//Dances//EN
CALSCALE:GREGORIAN
METHOD:PUBLISH
X-WR-TIMEZONE:Europe/Stockholm
BEGIN:VEVENT
SUMMARY:Bugg/Fox Varberg MÅNDAGSDANS till Excess i Varberg 22 juli 2024
DTSTART:20240722T170000Z
DTEND:20240722T210000Z
DTSTAMP:20260421T143737Z
UID:https://socialdancer.org/en/event/748/
CATEGORIES:
DESCRIPTION:MÅNDAGSDANS till Excess i Varberg 22 juli 2024 \n https://www
 .facebook.com/events/979581563534942/
URL:https://socialdancer.org/en/event/748/
END:VEVENT
END:VCALENDAR
