BEGIN:VCALENDAR
VERSION:2.0
PRODID:-//socialdancer.org//Dances//EN
CALSCALE:GREGORIAN
METHOD:PUBLISH
X-WR-TIMEZONE:Europe/Stockholm
BEGIN:VEVENT
SUMMARY:Bugg/Fox Alingsås Söndagsdans till PHs
DTSTART:20240616T150000Z
DTEND:20240616T190000Z
DTSTAMP:20260419T222224Z
UID:https://socialdancer.org/en/event/720/
CATEGORIES:
DESCRIPTION:Söndagsdans till PH’s \n https://www.facebook.com/events/14
 12388926072082/
URL:https://socialdancer.org/en/event/720/
END:VEVENT
END:VCALENDAR
