BEGIN:VCALENDAR
VERSION:2.0
PRODID:-//socialdancer.org//Dances//EN
CALSCALE:GREGORIAN
METHOD:PUBLISH
X-WR-TIMEZONE:Europe/Stockholm
BEGIN:VEVENT
SUMMARY:Bugg/Fox Alingsås Söndagsdans till Allstars
DTSTART:20240519T150000Z
DTEND:20240519T190000Z
DTSTAMP:20260421T115612Z
UID:https://socialdancer.org/en/event/716/
CATEGORIES:
DESCRIPTION:Söndagsdans till Allstars \n https://www.facebook.com/events/
 1164946014949081/
URL:https://socialdancer.org/en/event/716/
END:VEVENT
END:VCALENDAR
