BEGIN:VCALENDAR
VERSION:2.0
PRODID:-//socialdancer.org//Dances//EN
CALSCALE:GREGORIAN
METHOD:PUBLISH
X-WR-TIMEZONE:Europe/Stockholm
BEGIN:VEVENT
SUMMARY:Bugg/Fox Göteborg Donnez på Liseberg
DTSTART:20240502T170000Z
DTEND:20240502T200000Z
DTSTAMP:20260420T081903Z
UID:https://socialdancer.org/en/event/699/
CATEGORIES:
DESCRIPTION:Donnez på Liseberg \n https://www.facebook.com/events/7949712
 55857612/
URL:https://socialdancer.org/en/event/699/
END:VEVENT
END:VCALENDAR
