BEGIN:VCALENDAR
VERSION:2.0
PRODID:-//socialdancer.org//Dances//EN
CALSCALE:GREGORIAN
METHOD:PUBLISH
X-WR-TIMEZONE:Europe/Stockholm
BEGIN:VEVENT
SUMMARY:Bugg/Fox Nerja Dansveckan | BokaNerja - resebyrå
DTSTART:20241023T080000Z
DTEND:20241023T180000Z
DTSTAMP:20260419T192509Z
UID:https://socialdancer.org/en/event/669/
CATEGORIES:
DESCRIPTION:Dansveckan | BokaNerja - resebyrå \n https://www.bokanerja.se
 /dansveckan
URL:https://socialdancer.org/en/event/669/
END:VEVENT
END:VCALENDAR
