BEGIN:VCALENDAR
VERSION:2.0
PRODID:-//socialdancer.org//Dances//EN
CALSCALE:GREGORIAN
METHOD:PUBLISH
X-WR-TIMEZONE:Europe/Stockholm
BEGIN:VEVENT
SUMMARY:Bugg/Fox Ulricehamn DansKväll | Tema VårGlädje
DTSTART:20240419T180000Z
DTEND:20240419T200000Z
DTSTAMP:20260421T132238Z
UID:https://socialdancer.org/en/event/658/
CATEGORIES:
DESCRIPTION:DansKväll | Tema VårGlädje \n https://www.facebook.com/even
 ts/323471844037122/
URL:https://socialdancer.org/en/event/658/
END:VEVENT
END:VCALENDAR
