BEGIN:VCALENDAR
VERSION:2.0
PRODID:-//socialdancer.org//Dances//EN
CALSCALE:GREGORIAN
METHOD:PUBLISH
X-WR-TIMEZONE:Europe/Stockholm
BEGIN:VEVENT
SUMMARY:Bugg/Fox Borås Påskmaran Påskafton & Påskdagen - Parkhallen Bo
 rås
DTSTART:20240330T180000Z
DTEND:20240330T230000Z
DTSTAMP:20260420T042750Z
UID:https://socialdancer.org/en/event/632/
CATEGORIES:
DESCRIPTION:Påskmaran Påskafton & Påskdagen - Parkhallen Borås \n http
 s://www.facebook.com/events/1424028541854161/
URL:https://socialdancer.org/en/event/632/
END:VEVENT
END:VCALENDAR
