BEGIN:VCALENDAR
VERSION:2.0
PRODID:-//socialdancer.org//Dances//EN
CALSCALE:GREGORIAN
METHOD:PUBLISH
X-WR-TIMEZONE:Europe/Stockholm
BEGIN:VEVENT
SUMMARY:Fox Sundsvall Foxmara Sundsvall Altira SAVE THE DATE
DTSTART:20240510T160000Z
DTEND:20240511T200000Z
DTSTAMP:20260419T192210Z
UID:https://socialdancer.org/en/event/621/
CATEGORIES:
DESCRIPTION:Välkommen att dansa med oss på Dansklubben Altira - Dansklub
 ben Altira \n https://altira.nu/
URL:https://socialdancer.org/en/event/621/
END:VEVENT
END:VCALENDAR
