BEGIN:VCALENDAR
VERSION:2.0
PRODID:-//socialdancer.org//Dances//EN
CALSCALE:GREGORIAN
METHOD:PUBLISH
X-WR-TIMEZONE:Europe/Stockholm
BEGIN:VEVENT
SUMMARY:Fox Göteborg SJFox - Lördag med fox NEONTEMA
DTSTART:20240518T170000Z
DTEND:20240518T215500Z
DTSTAMP:20260420T114843Z
UID:https://socialdancer.org/en/event/619/
CATEGORIES:
DESCRIPTION:SJFOX - lördag med Fox NEONTEMA 💚🧡🩷 (anmälan öppna
 r 21/4) \n https://www.facebook.com/events/1143543200357646/
URL:https://socialdancer.org/en/event/619/
END:VEVENT
END:VCALENDAR
