BEGIN:VCALENDAR
VERSION:2.0
PRODID:-//socialdancer.org//Dances//EN
CALSCALE:GREGORIAN
METHOD:PUBLISH
X-WR-TIMEZONE:Europe/Stockholm
BEGIN:VEVENT
SUMMARY:Bugg Alingsås Buggkurser i Alingsås
DTSTART:20240213T173000Z
DTEND:20240213T203000Z
DTSTAMP:20260423T115235Z
UID:https://socialdancer.org/en/event/600/
CATEGORIES:
DESCRIPTION:Buggkurser i Alingsås \n https://www.facebook.com/events/3400
 15772221548/
URL:https://socialdancer.org/en/event/600/
END:VEVENT
END:VCALENDAR
