BEGIN:VCALENDAR
VERSION:2.0
PRODID:-//socialdancer.org//Dances//EN
CALSCALE:GREGORIAN
METHOD:PUBLISH
X-WR-TIMEZONE:Europe/Stockholm
BEGIN:VEVENT
SUMMARY:Bugg/Fox Göteborg Fridans på Donnum Ferrum
DTSTART:20221206T160000Z
DTEND:20221107T190000Z
DTSTAMP:20260425T124936Z
UID:https://socialdancer.org/en/event/6/
CATEGORIES:
DESCRIPTION:1\nFridans på Donnum Ferrum \n https://www.facebook.com/event
 s/1043309866357944/1043332003022397/
URL:https://socialdancer.org/en/event/6/
END:VEVENT
END:VCALENDAR
