BEGIN:VCALENDAR
VERSION:2.0
PRODID:-//socialdancer.org//Dances//EN
CALSCALE:GREGORIAN
METHOD:PUBLISH
X-WR-TIMEZONE:Europe/Stockholm
BEGIN:VEVENT
SUMMARY:West Coast Swing/Fox Stockholm Danskväll FOX & WCS med Workshop
DTSTART:20240420T163000Z
DTEND:20240420T210000Z
DTSTAMP:20260421T113339Z
UID:https://socialdancer.org/en/event/575/
CATEGORIES:
DESCRIPTION:Danskväll FOX & WCS med Workshop \n https://www.facebook.com/
 events/3718452725053273/
URL:https://socialdancer.org/en/event/575/
END:VEVENT
END:VCALENDAR
