BEGIN:VCALENDAR
VERSION:2.0
PRODID:-//socialdancer.org//Dances//EN
CALSCALE:GREGORIAN
METHOD:PUBLISH
X-WR-TIMEZONE:Europe/Stockholm
BEGIN:VEVENT
SUMMARY:West Coast Swing Göteborg West Coast Swing - socialdanser!
DTSTART:20240523T181500Z
DTEND:20240523T200000Z
DTSTAMP:20260421T132722Z
UID:https://socialdancer.org/en/event/559/
CATEGORIES:
DESCRIPTION:West Coast Swing - socialdanser! \n https://www.facebook.com/e
 vents/1304556263580063/
URL:https://socialdancer.org/en/event/559/
END:VEVENT
END:VCALENDAR
