BEGIN:VCALENDAR
VERSION:2.0
PRODID:-//socialdancer.org//Dances//EN
CALSCALE:GREGORIAN
METHOD:PUBLISH
X-WR-TIMEZONE:Europe/Stockholm
BEGIN:VEVENT
SUMMARY:Ballroom dance Mölndal Winter camp 2024
DTSTART:20240112T160000Z
DTEND:20240115T140000Z
DTSTAMP:20260423T115955Z
UID:https://socialdancer.org/en/event/540/
CATEGORIES:
DESCRIPTION:Winter camp 2024 \n https://www.facebook.com/events/1859919078
 69561/
URL:https://socialdancer.org/en/event/540/
END:VEVENT
END:VCALENDAR
