BEGIN:VCALENDAR
VERSION:2.0
PRODID:-//socialdancer.org//Dances//EN
CALSCALE:GREGORIAN
METHOD:PUBLISH
X-WR-TIMEZONE:Europe/Stockholm
BEGIN:VEVENT
SUMMARY:Bugg/Fox Örebro Påskdagsnonstop med Sannex & Blender i Brunnspar
 ken 
DTSTART:20240331T170000Z
DTEND:20240331T220000Z
DTSTAMP:20260420T014035Z
UID:https://socialdancer.org/en/event/533/
CATEGORIES:
DESCRIPTION:Påskdagsnonstop med Sannex & Blender i Brunnsparken  \n https
 ://www.facebook.com/events/717727317073209/
URL:https://socialdancer.org/en/event/533/
END:VEVENT
END:VCALENDAR
