BEGIN:VCALENDAR
VERSION:2.0
PRODID:-//socialdancer.org//Dances//EN
CALSCALE:GREGORIAN
METHOD:PUBLISH
X-WR-TIMEZONE:Europe/Stockholm
BEGIN:VEVENT
SUMMARY:West Coast Swing/Fox Stockholm Danskväll FOX & WCS med Workshop
DTSTART:20231227T173000Z
DTSTAMP:20260421T115716Z
UID:https://socialdancer.org/en/event/525/
CATEGORIES:
DESCRIPTION:Danskväll FOX & WCS med Workshop \n https://www.facebook.com/
 events/1564206837448360/
URL:https://socialdancer.org/en/event/525/
END:VEVENT
END:VCALENDAR
