BEGIN:VCALENDAR
VERSION:2.0
PRODID:-//socialdancer.org//Dances//EN
CALSCALE:GREGORIAN
METHOD:PUBLISH
X-WR-TIMEZONE:Europe/Stockholm
BEGIN:VEVENT
SUMMARY:Fox Vallentuna \, M&M Fox Night 10.1 - Dansglädje
DTSTART:20240127T170000Z
DTEND:20240128T010000Z
DTSTAMP:20260421T114509Z
UID:https://socialdancer.org/en/event/501/
CATEGORIES:
DESCRIPTION:None \n https://www.facebook.com/events/893815409112332/\nM&M 
 Fox Night 10.1 - Dansglädje \n https://dans.se/dansgladje/shop/new?event=
 205628
URL:https://socialdancer.org/en/event/501/
END:VEVENT
END:VCALENDAR
