BEGIN:VCALENDAR
VERSION:2.0
PRODID:-//socialdancer.org//Dances//EN
CALSCALE:GREGORIAN
METHOD:PUBLISH
X-WR-TIMEZONE:Europe/Stockholm
BEGIN:VEVENT
SUMMARY:Bugg/Fox Göteborg Danskväll till spellista (bugg och fox) i Alin
 gsås
DTSTART:20230208T163000Z
DTEND:20230208T193000Z
DTSTAMP:20260426T025452Z
UID:https://socialdancer.org/en/event/49/
CATEGORIES:
DESCRIPTION:Danskväll till spellista (bugg och fox) i Alingsås \n https:
 //www.facebook.com/events/844940253257103/844940266590435/
URL:https://socialdancer.org/en/event/49/
END:VEVENT
END:VCALENDAR
