BEGIN:VCALENDAR
VERSION:2.0
PRODID:-//socialdancer.org//Dances//EN
CALSCALE:GREGORIAN
METHOD:PUBLISH
X-WR-TIMEZONE:Europe/Stockholm
BEGIN:VEVENT
SUMMARY:Bugg/Fox Herrljunga Moderndans i Herrljungaparken
DTSTART:20231119T170000Z
DTEND:20231119T210000Z
DTSTAMP:20260421T103752Z
UID:https://socialdancer.org/en/event/482/
CATEGORIES:
DESCRIPTION:Moderndans i Herrljungaparken \n https://www.facebook.com/even
 ts/1285982385417033/
URL:https://socialdancer.org/en/event/482/
END:VEVENT
END:VCALENDAR
