BEGIN:VCALENDAR
VERSION:2.0
PRODID:-//socialdancer.org//Dances//EN
CALSCALE:GREGORIAN
METHOD:PUBLISH
X-WR-TIMEZONE:Europe/Stockholm
BEGIN:VEVENT
SUMMARY:Fox Ulricehamn Fox | Grundkurs
DTSTART:20231108T173000Z
DTEND:20231108T190000Z
DTSTAMP:20260420T081621Z
UID:https://socialdancer.org/en/event/474/
CATEGORIES:
DESCRIPTION:Fox | Grundkurs \n https://www.facebook.com/events/86420465496
 8260/
URL:https://socialdancer.org/en/event/474/
END:VEVENT
END:VCALENDAR
