BEGIN:VCALENDAR
VERSION:2.0
PRODID:-//socialdancer.org//Dances//EN
CALSCALE:GREGORIAN
METHOD:PUBLISH
X-WR-TIMEZONE:Europe/Stockholm
BEGIN:VEVENT
SUMMARY:Bugg/Fox Varberg Måndagsdans i Tofta bygdegård till Sannex
DTSTART:20231106T183000Z
DTEND:20231106T220000Z
DTSTAMP:20260420T081816Z
UID:https://socialdancer.org/en/event/453/
CATEGORIES:
DESCRIPTION:Måndagsdans i Tofta bygdegård till Sannex \n https://www.fac
 ebook.com/events/714816717079277/
URL:https://socialdancer.org/en/event/453/
END:VEVENT
END:VCALENDAR
