BEGIN:VCALENDAR
VERSION:2.0
PRODID:-//socialdancer.org//Dances//EN
CALSCALE:GREGORIAN
METHOD:PUBLISH
X-WR-TIMEZONE:Europe/Stockholm
BEGIN:VEVENT
SUMMARY:Fox Uddevalla Danskvällar med kursinslag
DTSTART:20231215T180000Z
DTEND:20231215T230000Z
DTSTAMP:20260419T192201Z
UID:https://socialdancer.org/en/event/445/
CATEGORIES:
DESCRIPTION:Danskvällar med kursinslag \n https://www.facebook.com/events
 /1335689797032208/
URL:https://socialdancer.org/en/event/445/
END:VEVENT
END:VCALENDAR
