BEGIN:VCALENDAR
VERSION:2.0
PRODID:-//socialdancer.org//Dances//EN
CALSCALE:GREGORIAN
METHOD:PUBLISH
X-WR-TIMEZONE:Europe/Stockholm
BEGIN:VEVENT
SUMMARY:Fox Stenungsund Dansa Fox o Bugg i Spekeröds Bygdegård Onsdag 4 
 Oktober 19:00
DTSTART:20231004T170000Z
DTEND:20231004T193000Z
DTSTAMP:20260421T103852Z
UID:https://socialdancer.org/en/event/424/
CATEGORIES:
DESCRIPTION:Dansa Fox o Bugg i Spekeröds Bygdegård Onsdag 4 Oktober 19:0
 0 \n https://www.facebook.com/events/284971931088996/
URL:https://socialdancer.org/en/event/424/
END:VEVENT
END:VCALENDAR
