BEGIN:VCALENDAR
VERSION:2.0
PRODID:-//socialdancer.org//Dances//EN
CALSCALE:GREGORIAN
METHOD:PUBLISH
X-WR-TIMEZONE:Europe/Stockholm
BEGIN:VEVENT
SUMMARY:Line dance/West Coast Swing Göteborg Föreningsdag  — West Coas
 t Nights
DTSTART:20230930T114000Z
DTEND:20230930T220000Z
DTSTAMP:20260419T145820Z
UID:https://socialdancer.org/en/event/415/
CATEGORIES:
DESCRIPTION:Föreningsdag  — West Coast Nights \n https://www.westcoastn
 ights.se/evenemang/foreningsdag-ht2023
URL:https://socialdancer.org/en/event/415/
END:VEVENT
END:VCALENDAR
