BEGIN:VCALENDAR
VERSION:2.0
PRODID:-//socialdancer.org//Dances//EN
CALSCALE:GREGORIAN
METHOD:PUBLISH
X-WR-TIMEZONE:Europe/Stockholm
BEGIN:VEVENT
SUMMARY:Bugg/Fox Jönköping Sannex  Säsongsfinal Sägnernas
DTSTART:20230923T180000Z
DTSTAMP:20260421T145335Z
UID:https://socialdancer.org/en/event/403/
CATEGORIES:
DESCRIPTION:Sannex  Säsongsfinal Sägnernas \n https://www.facebook.com/e
 vents/153594624415196/
URL:https://socialdancer.org/en/event/403/
END:VEVENT
END:VCALENDAR
