BEGIN:VCALENDAR
VERSION:2.0
PRODID:-//socialdancer.org//Dances//EN
CALSCALE:GREGORIAN
METHOD:PUBLISH
X-WR-TIMEZONE:Europe/Stockholm
BEGIN:VEVENT
SUMMARY:Fox Mölndal Foxnight (INSTÄLLD!)
DTSTART:20231124T170000Z
DTEND:20231124T203000Z
DTSTAMP:20260421T115540Z
UID:https://socialdancer.org/en/event/379/
CATEGORIES:
DESCRIPTION:Foxnight  \n https://www.facebook.com/events/634780301789281/
URL:https://socialdancer.org/en/event/379/
END:VEVENT
END:VCALENDAR
