BEGIN:VCALENDAR
VERSION:2.0
PRODID:-//socialdancer.org//Dances//EN
CALSCALE:GREGORIAN
METHOD:PUBLISH
X-WR-TIMEZONE:Europe/Stockholm
BEGIN:VEVENT
SUMMARY:Fox Mölndal Foxnight 
DTSTART:20230901T160000Z
DTEND:20230901T193000Z
DTSTAMP:20260421T114222Z
UID:https://socialdancer.org/en/event/374/
CATEGORIES:
DESCRIPTION:Foxnight  \n https://www.facebook.com/events/634780301789281/
URL:https://socialdancer.org/en/event/374/
END:VEVENT
END:VCALENDAR
