BEGIN:VCALENDAR
VERSION:2.0
PRODID:-//socialdancer.org//Dances//EN
CALSCALE:GREGORIAN
METHOD:PUBLISH
X-WR-TIMEZONE:Europe/Stockholm
BEGIN:VEVENT
SUMMARY:Contact improvisation Göteborg Kontaktimprovisation - Jam - Höst
 en 23
DTSTART:20230910T140000Z
DTEND:20230910T170000Z
DTSTAMP:20260421T115545Z
UID:https://socialdancer.org/en/event/366/
CATEGORIES:
DESCRIPTION:Kontaktimprovisation - Jam - Hösten 23 \n https://www.faceboo
 k.com/events/677429304306808/
URL:https://socialdancer.org/en/event/366/
END:VEVENT
END:VCALENDAR
