BEGIN:VCALENDAR
VERSION:2.0
PRODID:-//socialdancer.org//Dances//EN
CALSCALE:GREGORIAN
METHOD:PUBLISH
X-WR-TIMEZONE:Europe/Stockholm
BEGIN:VEVENT
SUMMARY:Bugg/Fox Gävle Gävlemaran hösten 2023: 20-22 oktober !
DTSTART:20231020T170000Z
DTEND:20231022T200000Z
DTSTAMP:20260420T055203Z
UID:https://socialdancer.org/en/event/297/
CATEGORIES:
DESCRIPTION:Gävlemaran — – Gävlemarans webplats \n https://gavlemara
 n.se/\nGävlemaran hösten 2023: 20-22 oktober ! \n https://www.facebook.c
 om/events/1031774371147636/
URL:https://socialdancer.org/en/event/297/
END:VEVENT
END:VCALENDAR
