BEGIN:VCALENDAR
VERSION:2.0
PRODID:-//socialdancer.org//Dances//EN
CALSCALE:GREGORIAN
METHOD:PUBLISH
X-WR-TIMEZONE:Europe/Stockholm
BEGIN:VEVENT
SUMMARY:Bachata Göteborg Caliente x Puta Madre - Rooftoop party!
DTSTART:20230719T170000Z
DTEND:20230719T210000Z
DTSTAMP:20260420T055427Z
UID:https://socialdancer.org/en/event/261/
CATEGORIES:
DESCRIPTION:Caliente x Puta Madre - Rooftoop party! \n https://www.faceboo
 k.com/events/793875042226612/
URL:https://socialdancer.org/en/event/261/
END:VEVENT
END:VCALENDAR
