BEGIN:VCALENDAR
VERSION:2.0
PRODID:-//socialdancer.org//Dances//EN
CALSCALE:GREGORIAN
METHOD:PUBLISH
X-WR-TIMEZONE:Europe/Stockholm
BEGIN:VEVENT
SUMMARY:Bugg/Fox Jönköping Sannex Sägnernas hus
DTSTART:20230811T180000Z
DTEND:20230811T220000Z
DTSTAMP:20260420T021511Z
UID:https://socialdancer.org/en/event/260/
CATEGORIES:
DESCRIPTION:Dansställen i Sverige \n https://www.danslogen.se/dansstallen
 /spelplan/sagnernas_hus\nSannex på Sägnernas \n https://www.facebook.com
 /events/1194332971237632/
URL:https://socialdancer.org/en/event/260/
END:VEVENT
END:VCALENDAR
