BEGIN:VCALENDAR
VERSION:2.0
PRODID:-//socialdancer.org//Dances//EN
CALSCALE:GREGORIAN
METHOD:PUBLISH
X-WR-TIMEZONE:Europe/Stockholm
BEGIN:VEVENT
SUMMARY:Bugg Malung Bakluckeloppis
DTSTART:20260718T170000Z
DTSTAMP:20260423T112329Z
UID:https://socialdancer.org/en/event/2549/
CATEGORIES:
DESCRIPTION:Detta kan du göra i Malung vecka 29 - Dansbandsveckan \n http
 s://dansbandsveckan.se/kringaktiviteter/
URL:https://socialdancer.org/en/event/2549/
END:VEVENT
END:VCALENDAR
