BEGIN:VCALENDAR
VERSION:2.0
PRODID:-//socialdancer.org//Dances//EN
CALSCALE:GREGORIAN
METHOD:PUBLISH
X-WR-TIMEZONE:Europe/Stockholm
BEGIN:VEVENT
SUMMARY:Bugg Malung Bilutställning Västerdalsträffen
DTSTART:20260715T170000Z
DTSTAMP:20260423T112320Z
UID:https://socialdancer.org/en/event/2546/
CATEGORIES:
DESCRIPTION:Detta kan du göra i Malung vecka 29 - Dansbandsveckan \n http
 s://dansbandsveckan.se/kringaktiviteter/
URL:https://socialdancer.org/en/event/2546/
END:VEVENT
END:VCALENDAR
