BEGIN:VCALENDAR
VERSION:2.0
PRODID:-//socialdancer.org//Dances//EN
CALSCALE:GREGORIAN
METHOD:PUBLISH
X-WR-TIMEZONE:Europe/Stockholm
BEGIN:VEVENT
SUMMARY:Bugg/Foxtrot/Fox Malung BENNRIX - SANDINS
DTSTART:20260718T180000Z
DTEND:20260718T230000Z
DTSTAMP:20260423T081209Z
UID:https://socialdancer.org/en/event/2545/
CATEGORIES:
DESCRIPTION:Unsafe: Risk score 89 too high \n https://dansbandsveck0.se/pr
 ogram
URL:https://socialdancer.org/en/event/2545/
END:VEVENT
END:VCALENDAR
