BEGIN:VCALENDAR
VERSION:2.0
PRODID:-//socialdancer.org//Dances//EN
CALSCALE:GREGORIAN
METHOD:PUBLISH
X-WR-TIMEZONE:Europe/Stockholm
BEGIN:VEVENT
SUMMARY:Bugg/Fox Varberg Måndagsdans till Foxie i Varberg 26 juni 2023
DTSTART:20230626T170000Z
DTEND:20230626T210000Z
DTSTAMP:20260421T115514Z
UID:https://socialdancer.org/en/event/248/
CATEGORIES:
DESCRIPTION:Måndagsdans till Foxie i Varberg 26 juni 2023 \n https://www.
 facebook.com/events/189102786859313/
URL:https://socialdancer.org/en/event/248/
END:VEVENT
END:VCALENDAR
