BEGIN:VCALENDAR
VERSION:2.0
PRODID:-//socialdancer.org//Dances//EN
CALSCALE:GREGORIAN
METHOD:PUBLISH
X-WR-TIMEZONE:Europe/Stockholm
BEGIN:VEVENT
SUMMARY:Fox Hedemora FOXMAS 2026
DTSTART:20261205T090000Z
DTEND:20261206T225900Z
DTSTAMP:20260426T062138Z
UID:https://socialdancer.org/en/event/2469/
CATEGORIES:
DESCRIPTION:FOXMAS 2026 \n https://www.facebook.com/events/236150052099564
 2/
URL:https://socialdancer.org/en/event/2469/
END:VEVENT
END:VCALENDAR
