BEGIN:VCALENDAR
VERSION:2.0
PRODID:-//socialdancer.org//Dances//EN
CALSCALE:GREGORIAN
METHOD:PUBLISH
X-WR-TIMEZONE:Europe/Stockholm
BEGIN:VEVENT
SUMMARY:Bugg/Fox Göteborg Donnez på Liseberg
DTSTART:20230525T170000Z
DTSTAMP:20260420T071441Z
UID:https://socialdancer.org/en/event/246/
CATEGORIES:
DESCRIPTION:Donnez på Liseberg \n https://www.facebook.com/events/2401330
 75212335
URL:https://socialdancer.org/en/event/246/
END:VEVENT
END:VCALENDAR
